BEGIN:VCALENDAR
VERSION:2.0
PRODID:-//DTHG - ECPv6.15.11//NONSGML v1.0//EN
CALSCALE:GREGORIAN
METHOD:PUBLISH
X-ORIGINAL-URL:https://dthgev.de
X-WR-CALDESC:Veranstaltungen für DTHG
REFRESH-INTERVAL;VALUE=DURATION:PT1H
X-Robots-Tag:noindex
X-PUBLISHED-TTL:PT1H
BEGIN:VTIMEZONE
TZID:Europe/Berlin
BEGIN:DAYLIGHT
TZOFFSETFROM:+0100
TZOFFSETTO:+0200
TZNAME:CEST
DTSTART:20230326T010000
END:DAYLIGHT
BEGIN:STANDARD
TZOFFSETFROM:+0200
TZOFFSETTO:+0100
TZNAME:CET
DTSTART:20231029T010000
END:STANDARD
BEGIN:DAYLIGHT
TZOFFSETFROM:+0100
TZOFFSETTO:+0200
TZNAME:CEST
DTSTART:20240331T010000
END:DAYLIGHT
BEGIN:STANDARD
TZOFFSETFROM:+0200
TZOFFSETTO:+0100
TZNAME:CET
DTSTART:20241027T010000
END:STANDARD
BEGIN:DAYLIGHT
TZOFFSETFROM:+0100
TZOFFSETTO:+0200
TZNAME:CEST
DTSTART:20250330T010000
END:DAYLIGHT
BEGIN:STANDARD
TZOFFSETFROM:+0200
TZOFFSETTO:+0100
TZNAME:CET
DTSTART:20251026T010000
END:STANDARD
END:VTIMEZONE
BEGIN:VEVENT
DTSTART;TZID=Europe/Berlin:20241212T190000
DTEND;TZID=Europe/Berlin:20241212T220000
DTSTAMP:20260425T140626
CREATED:20231010T144013Z
LAST-MODIFIED:20241203T141504Z
UID:10000218-1734030000-1734040800@dthgev.de
SUMMARY:Stammtisch Süd
DESCRIPTION:Liebe Mitglieder und Interessierte\, \nnachdem unser November-Stammtisch leider ausfallen musste\, laden wir herzlich zum Dezember-Stammtisch ein. \nWir treffen uns ab 19:00 Uhr im Palais-Schaumburg\, Kernstr. 46\, 90429 Nürnberg. \nDas ist nur vier U-Bahn-Stationen (U1 Richtung Hardthöhe\, Bhf. GOSTENHOF) vom Hauptbahnhof und es gibt eine reichhaltige Speisekarte sowie gute fränkische Biere vom Fass. \nEs ist ein Tisch auf DTHG reserviert. \nGerne kurz rückmelden\, unter sued@dthg.de oder unter meiner Mobilnummer. \nViele Grüße\, \ndie Regionalleiter\nErnst Schießl\, Klaus Haarer\n \n\n\n\n  \n  \n 
URL:https://dthgev.de/event/stammtisch-sued-1224/
LOCATION:Palais Schaumburg\, Kernstraße 46\, Nürnberg\, Bayern\, 90429
CATEGORIES:Stammtisch
ATTACH;FMTTYPE=image/png:https://dthgev.de/wp-content/uploads/2022/12/Kalenderblatt_Stammtisch_Sued-1.png
END:VEVENT
END:VCALENDAR