BEGIN:VCALENDAR
VERSION:2.0
PRODID:-//DTHG - ECPv6.15.11//NONSGML v1.0//EN
CALSCALE:GREGORIAN
METHOD:PUBLISH
X-WR-CALNAME:DTHG
X-ORIGINAL-URL:https://dthgev.de
X-WR-CALDESC:Veranstaltungen für DTHG
REFRESH-INTERVAL;VALUE=DURATION:PT1H
X-Robots-Tag:noindex
X-PUBLISHED-TTL:PT1H
BEGIN:VTIMEZONE
TZID:Europe/Berlin
BEGIN:DAYLIGHT
TZOFFSETFROM:+0100
TZOFFSETTO:+0200
TZNAME:CEST
DTSTART:20250330T010000
END:DAYLIGHT
BEGIN:STANDARD
TZOFFSETFROM:+0200
TZOFFSETTO:+0100
TZNAME:CET
DTSTART:20251026T010000
END:STANDARD
BEGIN:DAYLIGHT
TZOFFSETFROM:+0100
TZOFFSETTO:+0200
TZNAME:CEST
DTSTART:20260329T010000
END:DAYLIGHT
BEGIN:STANDARD
TZOFFSETFROM:+0200
TZOFFSETTO:+0100
TZNAME:CET
DTSTART:20261025T010000
END:STANDARD
BEGIN:DAYLIGHT
TZOFFSETFROM:+0100
TZOFFSETTO:+0200
TZNAME:CEST
DTSTART:20270328T010000
END:DAYLIGHT
BEGIN:STANDARD
TZOFFSETFROM:+0200
TZOFFSETTO:+0100
TZNAME:CET
DTSTART:20271031T010000
END:STANDARD
END:VTIMEZONE
BEGIN:VEVENT
DTSTART;TZID=Europe/Berlin:20260227T130000
DTEND;TZID=Europe/Berlin:20260228T143000
DTSTAMP:20260421T180720
CREATED:20251202T095404Z
LAST-MODIFIED:20260217T080128Z
UID:10000303-1772197200-1772289000@dthgev.de
SUMMARY:Treffen der AG Technische Direktoren
DESCRIPTION:Am 27. und 28. Februar 2026 treffen sich die Technischen Direktoren und leitenden technischen Verantwortlichen deutscher Theater in Göttingen zu ihrer ersten Tagung 2026 im Rahmen ihres Verbandes der Deutschen Theatertechnischen Gesellschaft (DTHG). Die zweitägige Arbeitstagung dient dem Austausch über aktuelle technische\, organisatorische und regulatorische Entwicklungen in deutschen Theaterbetrieben. \nFreitag\, 27.02.26 \n13:00 Ankommen\n14:00 offener Austausch / aktuelle Probleme\n16:00 Kaffepause\n16:30 Input Digitalisierung/KI (n.n.)\n18:00 gemeinsames Abendessen \nSamstag\, 28.02.26 \n09:30 Ankommen\, Kaffee\n10:00 Austausch zum Digitalisierung und KI\nmit Pausen\nab 14:00 Abreise
URL:https://dthgev.de/event/td-tagung-2026/
LOCATION:Deutsches Theater Göttingen\, Theaterplatz 11\, Göttingen\, Niedersachsen\, 37073\, Germany
CATEGORIES:AG Treffen,Seminar
ATTACH;FMTTYPE=image/png:https://dthgev.de/wp-content/uploads/2025/12/DTHG-Agenda-agtd.png
ORGANIZER;CN="DTHG e.V.":MAILTO:centrale@dthg.de
END:VEVENT
END:VCALENDAR