BEGIN:VCALENDAR
VERSION:2.0
PRODID:-//DTHG - ECPv6.15.11//NONSGML v1.0//EN
CALSCALE:GREGORIAN
METHOD:PUBLISH
X-WR-CALNAME:DTHG
X-ORIGINAL-URL:https://dthgev.de
X-WR-CALDESC:Veranstaltungen für DTHG
REFRESH-INTERVAL;VALUE=DURATION:PT1H
X-Robots-Tag:noindex
X-PUBLISHED-TTL:PT1H
BEGIN:VTIMEZONE
TZID:Europe/Berlin
BEGIN:DAYLIGHT
TZOFFSETFROM:+0100
TZOFFSETTO:+0200
TZNAME:CEST
DTSTART:20240331T010000
END:DAYLIGHT
BEGIN:STANDARD
TZOFFSETFROM:+0200
TZOFFSETTO:+0100
TZNAME:CET
DTSTART:20241027T010000
END:STANDARD
BEGIN:DAYLIGHT
TZOFFSETFROM:+0100
TZOFFSETTO:+0200
TZNAME:CEST
DTSTART:20250330T010000
END:DAYLIGHT
BEGIN:STANDARD
TZOFFSETFROM:+0200
TZOFFSETTO:+0100
TZNAME:CET
DTSTART:20251026T010000
END:STANDARD
BEGIN:DAYLIGHT
TZOFFSETFROM:+0100
TZOFFSETTO:+0200
TZNAME:CEST
DTSTART:20260329T010000
END:DAYLIGHT
BEGIN:STANDARD
TZOFFSETFROM:+0200
TZOFFSETTO:+0100
TZNAME:CET
DTSTART:20261025T010000
END:STANDARD
BEGIN:DAYLIGHT
TZOFFSETFROM:+0100
TZOFFSETTO:+0200
TZNAME:CEST
DTSTART:20270328T010000
END:DAYLIGHT
BEGIN:STANDARD
TZOFFSETFROM:+0200
TZOFFSETTO:+0100
TZNAME:CET
DTSTART:20271031T010000
END:STANDARD
END:VTIMEZONE
BEGIN:VEVENT
DTSTART;VALUE=DATE:20251222
DTEND;VALUE=DATE:20260110
DTSTAMP:20260425T153026
CREATED:20251203T102214Z
LAST-MODIFIED:20251203T102306Z
UID:10000304-1766361600-1768003199@dthgev.de
SUMMARY:DTHG Winterpause
DESCRIPTION:Vom 22. Dezember 2025 bis zum 9. Januar 2026 haben wir Betriebsferien. In der Zeit sind wir nur eingeschränkt erreichbar. Auskünfte bzgl. der BTT 2026 und der SHOWTECH 2027\, Bestellungen\, Bücher- und Stellenmarkt werden ab dem 5. Januar 2026 möglich sein.
URL:https://dthgev.de/event/dthg-winterpause-2/
ATTACH;FMTTYPE=image/png:https://dthgev.de/wp-content/uploads/2022/12/Kalenderblatt-Winterpause.png
ORGANIZER;CN="DTHG e.V.":MAILTO:centrale@dthg.de
END:VEVENT
BEGIN:VEVENT
DTSTART;TZID=Europe/Berlin:20260115T190000
DTEND;TZID=Europe/Berlin:20260115T213000
DTSTAMP:20260425T153026
CREATED:20251112T100109Z
LAST-MODIFIED:20260109T123718Z
UID:10000302-1768503600-1768512600@dthgev.de
SUMMARY:Stammtisch Regionalgruppe Süd in Nürnberg
DESCRIPTION:Liebe Mitglieder und Interessierte\, \nwir laden herzlich zum Neujahrs-DTHG-Stammtisch ein. \nAb 19:00 Uhr im Palais-Schaumburg\, Kernstr. 46\, 90429 Nürnberg. \nDas sind vier U-Bahn-Stationen (U1 Richtung Hardthöhe\, Haltestelle GOSTENHOF) vom Hauptbahnhof. \nEs gibt eine reichhaltige Speisekarte\, sowie gute alkoholische und nichtalkoholische fränkische Biere. \nEs ist ein Tisch auf DTHG reserviert. \nGerne anmelden\, per Email an sued@dthg.de \nViele Grüße \nDie Regionalleiter
URL:https://dthgev.de/event/stammtisch-sued-0126/
CATEGORIES:Stammtisch
ATTACH;FMTTYPE=image/png:https://dthgev.de/wp-content/uploads/2025/11/FB-Event-Stammtisch-Sued.png
ORGANIZER;CN="DTHG e.V.":MAILTO:centrale@dthg.de
END:VEVENT
BEGIN:VEVENT
DTSTART;TZID=Europe/Berlin:20260116T140000
DTEND;TZID=Europe/Berlin:20260116T150000
DTSTAMP:20260425T153026
CREATED:20260106T073145Z
LAST-MODIFIED:20260116T120143Z
UID:10000306-1768572000-1768575600@dthgev.de
SUMMARY:Online-Austausch der AG Technische Direktor*innen (Thema: Fuhrpark und Transporte)
DESCRIPTION:Alle zwei Monate trifft sich die AG der Technischen DirektorInnen zum Austausch auf zoom. Das Schwerpunktthema ist diesmal „Fuhrpark und Transporte“ – wer uns sein System als Diskussionsgrundlage (kurz) vorstellen möchte oder andere Themenwünsche für die Zukunft hat\, schreibt bitte direkt an ag-td@dthg.de. \nZoom-Zugangslink: https://us02web.zoom.us/j/88916314257?pwd=gyJF0RuzawalT9GuSSs6CbabSoJr9Q.1
URL:https://dthgev.de/event/online-austausch-der-ag-technische-direktorinnen-thema-fuhrpark-und-transporte/
CATEGORIES:AG Treffen
ATTACH;FMTTYPE=image/png:https://dthgev.de/wp-content/uploads/2026/01/DTHG-Agenda-TDAG.png
ORGANIZER;CN="DTHG e.V.":MAILTO:centrale@dthg.de
LOCATION:https://dthgev.de/event/online-austausch-der-ag-technische-direktorinnen-thema-fuhrpark-und-transporte/
END:VEVENT
END:VCALENDAR