BEGIN:VCALENDAR
VERSION:2.0
PRODID:-//DTHG - ECPv6.15.11//NONSGML v1.0//EN
CALSCALE:GREGORIAN
METHOD:PUBLISH
X-WR-CALNAME:DTHG
X-ORIGINAL-URL:https://dthgev.de
X-WR-CALDESC:Veranstaltungen für DTHG
REFRESH-INTERVAL;VALUE=DURATION:PT1H
X-Robots-Tag:noindex
X-PUBLISHED-TTL:PT1H
BEGIN:VTIMEZONE
TZID:Europe/Berlin
BEGIN:DAYLIGHT
TZOFFSETFROM:+0100
TZOFFSETTO:+0200
TZNAME:CEST
DTSTART:20250330T010000
END:DAYLIGHT
BEGIN:STANDARD
TZOFFSETFROM:+0200
TZOFFSETTO:+0100
TZNAME:CET
DTSTART:20251026T010000
END:STANDARD
BEGIN:DAYLIGHT
TZOFFSETFROM:+0100
TZOFFSETTO:+0200
TZNAME:CEST
DTSTART:20260329T010000
END:DAYLIGHT
BEGIN:STANDARD
TZOFFSETFROM:+0200
TZOFFSETTO:+0100
TZNAME:CET
DTSTART:20261025T010000
END:STANDARD
BEGIN:DAYLIGHT
TZOFFSETFROM:+0100
TZOFFSETTO:+0200
TZNAME:CEST
DTSTART:20270328T010000
END:DAYLIGHT
BEGIN:STANDARD
TZOFFSETFROM:+0200
TZOFFSETTO:+0100
TZNAME:CET
DTSTART:20271031T010000
END:STANDARD
END:VTIMEZONE
BEGIN:VEVENT
DTSTART;TZID=Europe/Berlin:20260512T093000
DTEND;TZID=Europe/Berlin:20260512T163000
DTSTAMP:20260421T164138
CREATED:20260316T070505Z
LAST-MODIFIED:20260420T100624Z
UID:10000310-1778578200-1778603400@dthgev.de
SUMMARY:Regionaltagung West "Tag des Bühnenwagens" Deutsche Oper am Rhein in Düsseldorf
DESCRIPTION:9:00\n\nEinlass & Frühstück \nKaffee\, Brezeln & Croissants \n\n\n\n10:00\n\nBegrüßung \nVolker Rhein & Martin Högg \n\n\n\n10:15\n\nBegrüßung durch Hausleitung \nPhilip Rabe & Hausleitung \n\n\n\n10:30\n\nBühnenwagensysteme und deren sicherheitstechnische Anforderungen \nStephan Rolfes \n\n\n\n11:30\n\nFunkgesteuerter Bühnenwagen – verschiedene Antriebe\, verschiedene Möglichkeiten \nAndreas Müller · Firma Green Motion \n\n\n\n11:45\n\nRäder und Rollen für den Einsatz auf der Bühne \nBurghard Busch · Firma Räder Busch \n\n\n\n12:00\n\nFunkgesteuerter Mecanum Bühnenwagen \nKlaus Huber \n\n\n\n12:15\n\nFunkgesteuerter Bühnenwagen der Firma Großfunk \nAndreas Fry \n\n\n\n12:30\n\nMittagspause \n\n\n\n13:15\n\nVorführung des Bühnenwagens der Deutschen Oper am Rhein \nNorbert Große Holtforth & Joachim Stelzer \n\n\n\n14:15\n\nTechnische Möglichkeiten zur Navigation von Bühnenwagen \nJoachim Stelzer \n\n\n\n15:00\n\nPräsentation des Bauvorhabens Theater der Keller – Umbau einer Klosterkirche in ein Theater \nWalter Thiess \n\n\n\n15:30\n\nKaffeepause \n\n\n\n16:00\n\nFührung durch das Haus \nPhilip Rabe & Team \n\n\n\n17:00\n\nStammtisch im Schlüssel \nGemeinsamer Ausklang der Veranstaltung
URL:https://dthgev.de/event/regionaltagung-west-duesseldorf/
LOCATION:Deutsche Oper am Rhein\, Heinrich-Heine-Allee 16A\, Düsseldorf\, Nordrhein-Westfalen\, 40213\, Germany
CATEGORIES:Regionaltagung
ATTACH;FMTTYPE=image/png:https://dthgev.de/wp-content/uploads/2023/10/Kalenderblatt_RT_Gruppe_West.png
ORGANIZER;CN="DTHG e.V.":MAILTO:centrale@dthg.de
END:VEVENT
BEGIN:VEVENT
DTSTART;TZID=Europe/Berlin:20260519T093000
DTEND;TZID=Europe/Berlin:20260519T163000
DTSTAMP:20260421T164138
CREATED:20260316T072042Z
LAST-MODIFIED:20260316T072555Z
UID:10000311-1779183000-1779208200@dthgev.de
SUMMARY:Gemeinsame Regionaltagung von Südwest und Mitte | Nationaltheater Mannheim | Schwerpunkt: Sanierung
DESCRIPTION:Save the Date. Programm und weitere Informationen folgen in Kürze.
URL:https://dthgev.de/event/regionaltagung-suedwest-mitte-mannheim/
LOCATION:Nationaltheater Mannheim\, Mannheim\, 68161\, Germany
CATEGORIES:Regionaltagung
ATTACH;FMTTYPE=image/png:https://dthgev.de/wp-content/uploads/2026/03/RGT26-Suedwestmitte-1.png
ORGANIZER;CN="DTHG e.V.":MAILTO:centrale@dthg.de
END:VEVENT
END:VCALENDAR