BEGIN:VCALENDAR
VERSION:2.0
PRODID:-//DTHG - ECPv6.15.11//NONSGML v1.0//EN
CALSCALE:GREGORIAN
METHOD:PUBLISH
X-ORIGINAL-URL:https://dthgev.de
X-WR-CALDESC:Veranstaltungen für DTHG
REFRESH-INTERVAL;VALUE=DURATION:PT1H
X-Robots-Tag:noindex
X-PUBLISHED-TTL:PT1H
BEGIN:VTIMEZONE
TZID:Europe/Berlin
BEGIN:DAYLIGHT
TZOFFSETFROM:+0100
TZOFFSETTO:+0200
TZNAME:CEST
DTSTART:20250330T010000
END:DAYLIGHT
BEGIN:STANDARD
TZOFFSETFROM:+0200
TZOFFSETTO:+0100
TZNAME:CET
DTSTART:20251026T010000
END:STANDARD
BEGIN:DAYLIGHT
TZOFFSETFROM:+0100
TZOFFSETTO:+0200
TZNAME:CEST
DTSTART:20260329T010000
END:DAYLIGHT
BEGIN:STANDARD
TZOFFSETFROM:+0200
TZOFFSETTO:+0100
TZNAME:CET
DTSTART:20261025T010000
END:STANDARD
BEGIN:DAYLIGHT
TZOFFSETFROM:+0100
TZOFFSETTO:+0200
TZNAME:CEST
DTSTART:20270328T010000
END:DAYLIGHT
BEGIN:STANDARD
TZOFFSETFROM:+0200
TZOFFSETTO:+0100
TZNAME:CET
DTSTART:20271031T010000
END:STANDARD
END:VTIMEZONE
BEGIN:VEVENT
DTSTART;TZID=Europe/Berlin:20260428T100000
DTEND;TZID=Europe/Berlin:20260428T170000
DTSTAMP:20260421T133929
CREATED:20260203T092000Z
LAST-MODIFIED:20260407T112151Z
UID:10000308-1777370400-1777395600@dthgev.de
SUMMARY:Regionaltagung Nord "Schwingen\, Heben\, Überleben" in Oldenburg
DESCRIPTION:Tagungsprogramm\nSchwingen\, Heben\, Überleben / Prävention und Gesundheit / Schwing- und Tanzböden \n09:30 Uhr\nAnkommen & Frühstück \n10:00 Uhr\nBegrüßung durch die Regionalgruppe Nord AG und die Theaterleitung des Oldenburgischen Staatstheaters \n10:15 Uhr\n„Grundsätze der Prävention im professionellen Bühnentanz“ (PIN 82)\nFilm: „Verletzlich schön – Tanz zwischen Eleganz und Risiko“ (21:30 Min.)\nanschließend Diskussion\nProf. Dr. Dr. med. Eileen M. Wanke\nInstitut für Arbeits-\, Sozial- und Umweltmedizin\, Goethe-Universität Frankfurt am Main \n11:30 Uhr\nKaffeepause \n11:50 Uhr\nGewaltfreies Arbeiten ermöglichen\nUnangemessenes Verhalten bei szenischen Darstellungen verhindern!\nDGUV Information 215-315 „Besondere szenische Darstellung“\nNeu: individuelle Gefährdungsbeurteilung durch Intimitätskoordinatorinnen oder Intimitätskoordinatoren\nWolfgang Heuer\nUnfallkasse NRW\, DGUV Sachgebiet „Bühnen und Studios“ \n12:25 Uhr\n„Der unsichtbare Partner“ – Der schwingende Tanzboden zwischen Kunst und Technik\nVortrag mit anschließender Gesprächsrunde\nKonrad Klasen\nTechnischer Leiter\, Hamburgballett \n13:00 Uhr\nMittagspause im Foyer \n13:45 Uhr\nNeues aus der DTHG\nWesko Rohde \n14:00 Uhr\nFirmenpräsentation: Tanzböden im Theaterbereich – Aufbau\, Anschaffungskriterien und Sicherheit\nThomas Sieber\nTechnischer Vertriebsleiter\, Harlequin Deutschland GmbH \n14:30 Uhr\nFirmenpräsentation: VARIO Tanz- und Schwingböden der Gerriets GmbH und nachhaltige Konzepte zur Sanierung\nAndreas Gause\nGerriets GmbH \n14:50 Uhr\nNachfragen & Diskussion \n15:15 Uhr\nFührung durch das Theater \nab 16:30 Uhr\nAusklang in der L’Osteria\nPoststraße 1–3\, Kaiserliche Post\, 26122 Oldenburg
URL:https://dthgev.de/event/regionaltagung-nord-2026/
LOCATION:Oldenburgisches Staatstheater\, Theaterwall 19\, Oldenburg\, Niedersachsen\, 26122\, Germany
CATEGORIES:Regionaltagung,Stammtisch
ATTACH;FMTTYPE=image/png:https://dthgev.de/wp-content/uploads/2022/12/Kalenderblatt_RT_Nord.png
ORGANIZER;CN="DTHG e.V.":MAILTO:centrale@dthg.de
END:VEVENT
BEGIN:VEVENT
DTSTART;TZID=Europe/Berlin:20260428T180000
DTEND;TZID=Europe/Berlin:20260428T220000
DTSTAMP:20260421T133929
CREATED:20260402T075151Z
LAST-MODIFIED:20260402T075151Z
UID:10000312-1777399200-1777413600@dthgev.de
SUMMARY:Netzwerkabend FKTG:  Broadcast\, Event\, Theater
DESCRIPTION:Broadcastproduktionen\, Live-Events und Theaterinszenierungen wurden lange als eigenständige Disziplinen mit klar getrennten Arbeitsweisen\, Technologien und Zielgruppen verstanden. Aktuell nähern sich diese Bereiche jedoch zunehmend an. \n\nDie Veranstaltung bringt Fachleute aus unterschiedlichen Produktionswelten zusammen\, um zentrale Fragen zu diskutieren: Welche Synergien können geschaffen werden und wo bestehen weiterhin grundlegende Unterschiede zwischen Broadcast\, Event und Theater?\n\nDer Abend findet als Kooperation zwischen FKTG\, VTFF und DTHG statt\n\nEintritt frei\, Infos und Anmeldung über folgenden Link:\nhttps://fktg.org/regionalgruppe-koeln-laedt-zu-netzwerkabend-hagen\n\nGO4IT! GmbH\nEnneper Str. 95A\n58135 Hagen
URL:https://dthgev.de/event/netzwerkabend-fktg-broadcast-event-theater/
LOCATION:GO4IT! GmbH\, Enneper Str. 95A\, Hagen\, 58135\, Germany
ATTACH;FMTTYPE=image/jpeg:https://dthgev.de/wp-content/uploads/2026/04/FKTG-Netzwerkabend-Hagen_2.jpeg
END:VEVENT
BEGIN:VEVENT
DTSTART;TZID=Europe/Berlin:20260429T090000
DTEND;TZID=Europe/Berlin:20260429T160000
DTSTAMP:20260421T133929
CREATED:20260116T120005Z
LAST-MODIFIED:20260317T115539Z
UID:10000307-1777453200-1777478400@dthgev.de
SUMMARY:Regionaltagung Süd im Theaterzelt Landshut
DESCRIPTION:Wir freuen uns auf ein Wiedersehen bei der DTHG-Regionaltagung der Gruppe Süd am 29. April 2026 im Theaterzelt Landshut.\n\n\nThema: Theater im Zelt – 12 Jahre in einer temporären Spielstätte \n\nGeplanter Tagesablauf:\n\nab 09:00 Come together bei Kaffee & Butterbrezn\nBegrüßung durch Theaterleitung & DTHG Regionalleitung\nAV-Netzwerke in der Veranstaltungs-Technik (ZEILER & PANASONIC)\nFirmenvorstellung (GRADIOR TECH)\nAkku Beleuchtung & Zauber mit Flexline (KAISER SHOW TECHNIK)\n12:30 Mittagessen\nTheaterzelt Backstage Führung (STADTTHEATER LANDSHUT)\nDTHG News (DTHG-Vorstand)\nVernetzungstreffen IP Video ST2110\, IPMX\, SDVoE am Theater\n(KAMMMERSPIELE MÜNCHEN)\nPräsentation Zelte als Spielstätten (BENTOS SOLUTION)\nca. 16:00 Ende der Regionaltagung (Feierabend Bier)
URL:https://dthgev.de/event/regionaltagung-sued-26/
LOCATION:Theaterzelt Landshut\, Niedermayerstraße 101\, Landshut\, Bayern\, 84036\, Germany
CATEGORIES:Regionaltagung
ATTACH;FMTTYPE=image/png:https://dthgev.de/wp-content/uploads/2023/02/Kalenderblatt_RT_Sued-1.png
ORGANIZER;CN="DTHG e.V.":MAILTO:centrale@dthg.de
END:VEVENT
END:VCALENDAR