BEGIN:VCALENDAR
VERSION:2.0
PRODID:-//DTHG - ECPv6.15.11//NONSGML v1.0//EN
CALSCALE:GREGORIAN
METHOD:PUBLISH
X-WR-CALNAME:DTHG
X-ORIGINAL-URL:https://dthgev.de
X-WR-CALDESC:Veranstaltungen für DTHG
REFRESH-INTERVAL;VALUE=DURATION:PT1H
X-Robots-Tag:noindex
X-PUBLISHED-TTL:PT1H
BEGIN:VTIMEZONE
TZID:Europe/Berlin
BEGIN:DAYLIGHT
TZOFFSETFROM:+0100
TZOFFSETTO:+0200
TZNAME:CEST
DTSTART:20240331T010000
END:DAYLIGHT
BEGIN:STANDARD
TZOFFSETFROM:+0200
TZOFFSETTO:+0100
TZNAME:CET
DTSTART:20241027T010000
END:STANDARD
BEGIN:DAYLIGHT
TZOFFSETFROM:+0100
TZOFFSETTO:+0200
TZNAME:CEST
DTSTART:20250330T010000
END:DAYLIGHT
BEGIN:STANDARD
TZOFFSETFROM:+0200
TZOFFSETTO:+0100
TZNAME:CET
DTSTART:20251026T010000
END:STANDARD
BEGIN:DAYLIGHT
TZOFFSETFROM:+0100
TZOFFSETTO:+0200
TZNAME:CEST
DTSTART:20260329T010000
END:DAYLIGHT
BEGIN:STANDARD
TZOFFSETFROM:+0200
TZOFFSETTO:+0100
TZNAME:CET
DTSTART:20261025T010000
END:STANDARD
END:VTIMEZONE
BEGIN:VEVENT
DTSTART;TZID=Europe/Berlin:20250207T120000
DTEND;TZID=Europe/Berlin:20250208T160000
DTSTAMP:20260424T122425
CREATED:20241018T105849Z
LAST-MODIFIED:20250109T112428Z
UID:10000269-1738929600-1739030400@dthgev.de
SUMMARY:Treffen der Arbeitsgruppe: Technische Direktorinnen/Direktoren
DESCRIPTION:SAVE THE DATE!\nTreffen der Arbeitsgruppe Technische Direktorinnen/Direktoren\n07. und 08. Februar 2025\nHaus der Berliner Festspiele\, Schaperstraße 24\, 10719 Berlin\n\n\n\n\n\nFreitag 07.02.2025\n12-13 Get in\n13-16 Impulsvortrag\n16-17 Austausch bei Kaffee und Kuchen\n17-19 Themensammlung\nIm Anschluss: gemeinsames Abendessen\n \nSamstag 08.02.2025\n9:30 Zusammenkunft\n10-12 Arbeitsgruppen\n13-14 Mittagessen\n14-16 Ergebnisse diskutieren
URL:https://dthgev.de/event/td-treffen/
LOCATION:Haus der Berliner Festspiele\, Schaperstraße 24\, Berlin\, Berlin\, 10719\, Deutschland
CATEGORIES:AG Treffen
ATTACH;FMTTYPE=image/png:https://dthgev.de/wp-content/uploads/2024/10/Kalenderbilder-–-TDTreffen.png
END:VEVENT
END:VCALENDAR