BEGIN:VCALENDAR
VERSION:2.0
PRODID:-//DTHG - ECPv6.15.11//NONSGML v1.0//EN
CALSCALE:GREGORIAN
METHOD:PUBLISH
X-ORIGINAL-URL:https://dthgev.de
X-WR-CALDESC:Veranstaltungen für DTHG
REFRESH-INTERVAL;VALUE=DURATION:PT1H
X-Robots-Tag:noindex
X-PUBLISHED-TTL:PT1H
BEGIN:VTIMEZONE
TZID:Europe/Berlin
BEGIN:DAYLIGHT
TZOFFSETFROM:+0100
TZOFFSETTO:+0200
TZNAME:CEST
DTSTART:20240331T010000
END:DAYLIGHT
BEGIN:STANDARD
TZOFFSETFROM:+0200
TZOFFSETTO:+0100
TZNAME:CET
DTSTART:20241027T010000
END:STANDARD
BEGIN:DAYLIGHT
TZOFFSETFROM:+0100
TZOFFSETTO:+0200
TZNAME:CEST
DTSTART:20250330T010000
END:DAYLIGHT
BEGIN:STANDARD
TZOFFSETFROM:+0200
TZOFFSETTO:+0100
TZNAME:CET
DTSTART:20251026T010000
END:STANDARD
BEGIN:DAYLIGHT
TZOFFSETFROM:+0100
TZOFFSETTO:+0200
TZNAME:CEST
DTSTART:20260329T010000
END:DAYLIGHT
BEGIN:STANDARD
TZOFFSETFROM:+0200
TZOFFSETTO:+0100
TZNAME:CET
DTSTART:20261025T010000
END:STANDARD
END:VTIMEZONE
BEGIN:VEVENT
DTSTART;TZID=Europe/Berlin:20251022T090000
DTEND;TZID=Europe/Berlin:20251022T170000
DTSTAMP:20260420T114824
CREATED:20250701T072928Z
LAST-MODIFIED:20250923T125433Z
UID:10000293-1761123600-1761152400@dthgev.de
SUMMARY:Regionaltagung Gruppe Ost "Tag der Digitalisierung/Ausbildung im Theater"
DESCRIPTION:Regionaltagung der DTHG-Regionalgruppe Ost\, 22.10.2025 \nHfBK Dresden- Hochschule für Bildende Künste Dresden\nThemenschwerpunkt: Ausbildung und Digitalisierung am Theater\n \nTagesablauf:\n09.00 – 10.00 Uhr\nHerzlich willkommen! \n10.00 Uhr\nBegrüßung durch die Dekanin der Fakultät II\, Prof. Anne Neuser\nanschl. DTHG Info Regionalgruppenleitung \n10:15 – 10:30 Uhr\nDTHG Vorstandsinformationen\, Martin Högg\nAnschl. Vorstellungsrunde Sponsoren \n10:30 – 11.00 Uhr\nVorstellung HfBK Studiengänge durch Prof. Maren Greinke \n11:00 – 11:15 Uhr\nVorstellung HfBK Projekt „Textile Raumsysteme für eine recyclebare Bühne“ \n11:15 – 11:30 Uhr\nPause \n11:30 – 12:15 Uhr\nthea.fundus / thea.projekt Thomas Greiner Theasoft GmbH \n12:15 – 12:30 Uhr\nSponsorenbeiträge \n12.30 – 13.30 Uhr\nMittagessen \n13.30 – 14.00 Uhr\nPROFundus – Digitale Lagerverwaltung \n14.00 – 14.45 Uhr\nDr. Leber Datentechnik GmbH DELEGATIS Gefährdungsbeurteilungen mit KI \n14:45 – 15:00 Uhr\nPause \n15:00 – 15:30 Uhr\nAusbildung Erfahrungsaustausch / Berufsschule \n15.30 – 17:00 Uhr \nBesichtigung der Ateliers der HfBK (3. Gruppen) \nHochschule für Bildende Künste Dresden\nGüntzstraße 34\, 01307 Dresden\n(Es gibt auf dem Gelände keine Parkmöglichkeiten\, also besser ÖPNV nutzen\, z.B. mit Straßenbahn Linien 8 und 13 von den Bahnhöfen aus gut zu erreichen) \nSave the Date: Nächste RG-Tagung Ost: Theater Rudolstadt\, Mittwoch 15.04.2026
URL:https://dthgev.de/event/regionaltagung-ost25/
LOCATION:HfBK Dresden\, Dresden\, Sachsen\, Germany
CATEGORIES:Regionaltagung
ATTACH;FMTTYPE=image/png:https://dthgev.de/wp-content/uploads/2023/10/Kalenderblatt_RT_Gruppe_Ost.png
ORGANIZER;CN="DTHG e.V.":MAILTO:centrale@dthg.de
END:VEVENT
END:VCALENDAR