BEGIN:VCALENDAR
VERSION:2.0
PRODID:-//DTHG - ECPv6.15.11//NONSGML v1.0//EN
CALSCALE:GREGORIAN
METHOD:PUBLISH
X-ORIGINAL-URL:https://dthgev.de
X-WR-CALDESC:Veranstaltungen für DTHG
REFRESH-INTERVAL;VALUE=DURATION:PT1H
X-Robots-Tag:noindex
X-PUBLISHED-TTL:PT1H
BEGIN:VTIMEZONE
TZID:Europe/Berlin
BEGIN:DAYLIGHT
TZOFFSETFROM:+0100
TZOFFSETTO:+0200
TZNAME:CEST
DTSTART:20220327T010000
END:DAYLIGHT
BEGIN:STANDARD
TZOFFSETFROM:+0200
TZOFFSETTO:+0100
TZNAME:CET
DTSTART:20221030T010000
END:STANDARD
BEGIN:DAYLIGHT
TZOFFSETFROM:+0100
TZOFFSETTO:+0200
TZNAME:CEST
DTSTART:20230326T010000
END:DAYLIGHT
BEGIN:STANDARD
TZOFFSETFROM:+0200
TZOFFSETTO:+0100
TZNAME:CET
DTSTART:20231029T010000
END:STANDARD
BEGIN:DAYLIGHT
TZOFFSETFROM:+0100
TZOFFSETTO:+0200
TZNAME:CEST
DTSTART:20240331T010000
END:DAYLIGHT
BEGIN:STANDARD
TZOFFSETFROM:+0200
TZOFFSETTO:+0100
TZNAME:CET
DTSTART:20241027T010000
END:STANDARD
END:VTIMEZONE
BEGIN:VEVENT
DTSTART;TZID=Europe/Berlin:20230629T140000
DTEND;TZID=Europe/Berlin:20230629T150000
DTSTAMP:20260424T132956
CREATED:20230330T092732Z
LAST-MODIFIED:20230623T101619Z
UID:10000194-1688047200-1688050800@dthgev.de
SUMMARY:ABGESAGT: LIVE FAQ Verwendungsnachweis
DESCRIPTION:Dieser LIVE KULTUR FAQ-Treff entfällt! \nFür Fragen rund um Ihren Verwendungsnachweis steht Ihnen dasLive Kultur Team gerne in Form individueller Beratungsgespräche zur Verfügung. Zögern Sie nicht und treten Sie mit uns in Kontakt via livekultur.dthg.de. \nDie DTHG-Förderberatung \n 
URL:https://dthgev.de/event/live-faq-verwendungsnachweis-juni/
CATEGORIES:FAQ
ATTACH;FMTTYPE=image/png:https://dthgev.de/wp-content/uploads/2022/12/Kalenderblatt-Live-FAQ.png
ORGANIZER;CN="DTHG Service GmbH":MAILTO:gmbh@dthg.de
LOCATION:https://dthgev.de/event/live-faq-verwendungsnachweis-juni/
END:VEVENT
BEGIN:VEVENT
DTSTART;TZID=Europe/Berlin:20230223T140000
DTEND;TZID=Europe/Berlin:20230223T150000
DTSTAMP:20260424T132956
CREATED:20230119T143435Z
LAST-MODIFIED:20230221T144355Z
UID:10000170-1677160800-1677164400@dthgev.de
SUMMARY:LIVE FAQ Verwendungsnachweis
DESCRIPTION:In diesem LIVE KULTUR FAQ-Treff beantworten wir alle Fragen zum Verwendungsnachweis\, wie zum Beispiel: \n\nWas muss im Verwendungsnachweis enthalten sein?\nWas gibt es beim Zwischennachweis zu beachten?\nGibt es Vorlagen\, die ich verwenden kann?\n\nIn dem Treff wird es keinen Vortrag geben\, wir besprechen ausschließlich eure Fragen. Bringt daher gern alle Fragen mit\, die für euch offen sind. \nDer Treff ist kostenlos und findet online via Zoom statt. Klickt auf „Anmeldung“\, um euch zu registrieren. Nach erfolgreicher Anmeldung erhaltet ihr eine Bestätigung. Der Zugangslink wird 30 Minuten vor dem Termin an die angegebene E-Mail-Adresse versendet. \nMit Klick auf „Anmeldung“ bestätigt ihr\, dass ihr die Anmeldebedingungen gelesen habt und euch damit einverstanden erklärt\, dass eure Daten gemäß DSVGO zur Vertragsabwicklung verwendet werden dürfen. \nAlle Infos zum Förderprogramm LIVE KULTUR – Wort\, Varieté\, Kleinkunst gibt es hier: livekultur.dthg.de. \nAlle Infos zum DTHG-Weiterbildungsprogramm gibt es unter dthgservice.eu. \nLink zum FAQ: https://us02web.zoom.us/j/84230428963?pwd=Z1lvQ2kzdUZnRGtQSDk5eHJHWFBWUT09
URL:https://dthgev.de/event/live-faq-verwendungsnachweis-2/
CATEGORIES:FAQ
ATTACH;FMTTYPE=image/png:https://dthgev.de/wp-content/uploads/2022/12/Kalenderblatt-Live-FAQ.png
LOCATION:https://dthgev.de/event/live-faq-verwendungsnachweis-2/
END:VEVENT
BEGIN:VEVENT
DTSTART;TZID=Europe/Berlin:20230126T140000
DTEND;TZID=Europe/Berlin:20230126T150000
DTSTAMP:20260424T132956
CREATED:20221208T080920Z
LAST-MODIFIED:20230119T143154Z
UID:10000148-1674741600-1674745200@dthgev.de
SUMMARY:LIVE FAQ Verwendungsnachweis
DESCRIPTION:In diesem LIVE KULTUR FAQ-Treff beantworten wir alle Fragen zum Verwendungsnachweis\, wie zum Beispiel: \n\nWas muss im Verwendungsnachweis enthalten sein?\nWas gibt es beim Zwischennachweis zu beachten?\nGibt es Vorlagen\, die ich verwenden kann?\n\nIn dem Treff wird es keinen Vortrag geben\, wir besprechen ausschließlich eure Fragen. Bringt daher gern alle Fragen mit\, die für euch offen sind. \nDer Treff ist kostenlos und findet online via Zoom statt. Klickt auf „Anmeldung“\, um euch zu registrieren. Nach erfolgreicher Anmeldung erhaltet ihr eine Bestätigung. Der Zugangslink wird 30 Minuten vor dem Termin an die angegebene E-Mail-Adresse versendet. \nMit Klick auf „Anmeldung“ bestätigt ihr\, dass ihr die Anmeldebedingungen gelesen habt und euch damit einverstanden erklärt\, dass eure Daten gemäß DSVGO zur Vertragsabwicklung verwendet werden dürfen. \nAlle Infos zum Förderprogramm LIVE KULTUR – Wort\, Varieté\, Kleinkunst gibt es hier: livekultur.dthg.de. \nAlle Infos zum DTHG-Weiterbildungsprogramm gibt es unter dthgservice.eu.
URL:https://dthgev.de/event/live-faq-verwendungsnachweis/
CATEGORIES:FAQ
ATTACH;FMTTYPE=image/png:https://dthgev.de/wp-content/uploads/2022/12/Kalenderblatt-Live-FAQ.png
LOCATION:https://dthgev.de/event/live-faq-verwendungsnachweis/
END:VEVENT
END:VCALENDAR