BEGIN:VCALENDAR
VERSION:2.0
PRODID:-//DTHG - ECPv6.15.11//NONSGML v1.0//EN
CALSCALE:GREGORIAN
METHOD:PUBLISH
X-WR-CALNAME:DTHG
X-ORIGINAL-URL:https://dthgev.de
X-WR-CALDESC:Veranstaltungen für DTHG
REFRESH-INTERVAL;VALUE=DURATION:PT1H
X-Robots-Tag:noindex
X-PUBLISHED-TTL:PT1H
BEGIN:VTIMEZONE
TZID:Europe/Berlin
BEGIN:DAYLIGHT
TZOFFSETFROM:+0100
TZOFFSETTO:+0200
TZNAME:CEST
DTSTART:20210328T010000
END:DAYLIGHT
BEGIN:STANDARD
TZOFFSETFROM:+0200
TZOFFSETTO:+0100
TZNAME:CET
DTSTART:20211031T010000
END:STANDARD
BEGIN:DAYLIGHT
TZOFFSETFROM:+0100
TZOFFSETTO:+0200
TZNAME:CEST
DTSTART:20220327T010000
END:DAYLIGHT
BEGIN:STANDARD
TZOFFSETFROM:+0200
TZOFFSETTO:+0100
TZNAME:CET
DTSTART:20221030T010000
END:STANDARD
BEGIN:DAYLIGHT
TZOFFSETFROM:+0100
TZOFFSETTO:+0200
TZNAME:CEST
DTSTART:20230326T010000
END:DAYLIGHT
BEGIN:STANDARD
TZOFFSETFROM:+0200
TZOFFSETTO:+0100
TZNAME:CET
DTSTART:20231029T010000
END:STANDARD
END:VTIMEZONE
BEGIN:VEVENT
DTSTART;TZID=Europe/Berlin:20221208T140000
DTEND;TZID=Europe/Berlin:20221208T150000
DTSTAMP:20260422T112005
CREATED:20221115T104446Z
LAST-MODIFIED:20221208T113304Z
UID:10000137-1670508000-1670511600@dthgev.de
SUMMARY:FAQ-Treff: Neustart Kultur
DESCRIPTION:In diesem NEUSTART KULTUR FAQ-Treff beantworten wir alle Fragen zum Verwendungsnachweis\, wie zum Beispiel: \n\nWas muss im Verwendungsnachweis enthalten sein?\nWas gibt es beim Zwischennachweis zu beachten?\nGibt es Vorlagen\, die ich verwenden kann?\n\nIn dem Treff wird es keinen Vortrag geben\, wir besprechen ausschließlich eure Fragen. Bringt daher gern alle Fragen mit\, die für euch offen sind. \nDer Treff ist kostenlos und findet online via Zoom statt. Klicken Sie „Anmelden“\, um sich zu registrieren. Nach erfolgreicher Anmeldung erhalten Sie eine Bestätigung. Der Zugangslink wird vor dem Termin an die angegebene E-Mail-Adresse versendet. \nZoom-Link für den Treff heute:\nhttps://us02web.zoom.us/j/84230428963?pwd=Z1lvQ2kzdUZnRGtQSDk5eHJHWFBWUT09 \nMit Klick auf „Anmelden“ bestätigen Sie\, dass Sie die Anmeldebedingungen gelesen haben und sich damit einverstanden erklären\, dass Ihre Daten gemäß DSVGO zur Vertragsabwicklung verwendet werden dürfen. \nAlle Infos zum Förderprogramm NEUSTART KULTUR – Pandemiebedingte Investitionen gibt es hier: neustartkultur.dthg.de. \nAlle Infos zum DTHG-Weiterbildungsprogramm gibt es unter dthgservice.eu.
URL:https://dthgev.de/event/neustart-kultur-faq/
ATTACH;FMTTYPE=image/png:https://dthgev.de/wp-content/uploads/2022/11/Kalenderblatt-Neustart_kultur1-1.png
LOCATION:https://dthgev.de/event/neustart-kultur-faq/
END:VEVENT
END:VCALENDAR