BEGIN:VCALENDAR
VERSION:2.0
PRODID:-//DTHG - ECPv6.15.11//NONSGML v1.0//EN
CALSCALE:GREGORIAN
METHOD:PUBLISH
X-WR-CALNAME:DTHG
X-ORIGINAL-URL:https://dthgev.de
X-WR-CALDESC:Veranstaltungen für DTHG
REFRESH-INTERVAL;VALUE=DURATION:PT1H
X-Robots-Tag:noindex
X-PUBLISHED-TTL:PT1H
BEGIN:VTIMEZONE
TZID:Europe/Berlin
BEGIN:DAYLIGHT
TZOFFSETFROM:+0100
TZOFFSETTO:+0200
TZNAME:CEST
DTSTART:20220327T010000
END:DAYLIGHT
BEGIN:STANDARD
TZOFFSETFROM:+0200
TZOFFSETTO:+0100
TZNAME:CET
DTSTART:20221030T010000
END:STANDARD
BEGIN:DAYLIGHT
TZOFFSETFROM:+0100
TZOFFSETTO:+0200
TZNAME:CEST
DTSTART:20230326T010000
END:DAYLIGHT
BEGIN:STANDARD
TZOFFSETFROM:+0200
TZOFFSETTO:+0100
TZNAME:CET
DTSTART:20231029T010000
END:STANDARD
BEGIN:DAYLIGHT
TZOFFSETFROM:+0100
TZOFFSETTO:+0200
TZNAME:CEST
DTSTART:20240331T010000
END:DAYLIGHT
BEGIN:STANDARD
TZOFFSETFROM:+0200
TZOFFSETTO:+0100
TZNAME:CET
DTSTART:20241027T010000
END:STANDARD
END:VTIMEZONE
BEGIN:VEVENT
DTSTART;TZID=Europe/Berlin:20230323T090000
DTEND;TZID=Europe/Berlin:20230323T160000
DTSTAMP:20260419T140256
CREATED:20221222T093728Z
LAST-MODIFIED:20230302T094356Z
UID:10000154-1679562000-1679587200@dthgev.de
SUMMARY:Regionaltagung Nord
DESCRIPTION:Wir laden euch sehr herzlich ein zur nächsten DTHG-Regionalgruppentagung der Gruppe Nord in Ibbenbüren. \nUnser Treffen findet am 23. März von 9 – 16 Uhr im Quasi So – Theater (Brunnenstraße 6\, 49477 Ibbenbüren) und bei der Firma LMP Lichttechnik (Gildestraße 55\, 49477 Ibbenbüren) statt. \nThema: Follow-Me Remote-Followspot-System / Mediaserver\nKultur- und Stakeholder im ländlichen Raum \nAblauf: \n09:30 – Ankommen & Frühstück \n10:00 – Begrüßung\nDr. Stephan Schmitz (1. Vorsitzender Quasi So Theater)\nNele Aufurth und Lisa von Meyer (Leiter:innen der DTHG Nord AG) \n10:15 – DTHG News\nMartin Högg (Vorstand DTHG) \n10:30 – Kultur und Vernetzung in ländlichen Räumen –\nDie spezifischen Herausforderungen der Kulturarbeit außerhalb der Großstädte\, sowie  Förder- und Vernetzungsmöglichkeiten .\nAntje Nöhren (Kultursekretariat NRW Gütersloh)\nAndre Sebastian (Münsterland e.V. – Kulturbüro) \n11:15 – Kaffeepause \n11:30 – Verteilt\, gespeichert & ausgespielt – Moderne Videotechnik im klassischen Theaterbetrieb\nMehr und mehr halten Videoinhalte Einzug auf der Bühne und im Haus. Welche Möglichkeiten bieten Mediaplayer\, Server & Co und wie könnte ein Konzept aussehen?\nDaniel Frigger (Produktspezialist\, cast C.Adolph & RST Distributions GmbH) \n12:30 – Austausch auf dem Weg zu LMP \n13:00 – Mittag \n14:00 – Follow-Me Remote-Followspot- und Autotracking-Systeme: Vorteile\, Integration und flexible Ausbaustufen für theatergerechtes Verfolgen von Künstler:innen im 3D Raum\nVortrag und Präsentation im LMP-Showroom \n15:30 – Abschluss\, Kaffee & Kekse \n———————— \nQuasi So – Theater – Brunnenstraße 6\, 49477 Ibbenbüren\, Eingang: Noltengängesken\nParkmöglichkeiten: kostenpflichtige Parkplätze direkt vor dem Eingang zu unserer Geschäftsstelle Q-Punkt (wenn noch welche frei sind)\, ansonsten direkt\, wenn man von der Münsterstaße in die Kurze Straße einbiegt\, links ein großer ‚Kulturparkplatz‘\, leider auch kostenpflichtig \nLMP Lichttechnik – Gildestraße 55\, 49477 Ibbenbüren\nParkplätze sind auf dem LMP Gelände ausreichend vorhanden
URL:https://dthgev.de/event/regionaltagung-nord/
LOCATION:Quasi So Theater\, Brunnenstraße 6\, Ibbenbüren\, NRW\, 49477\, Deutschland
CATEGORIES:Regionaltagung
ATTACH;FMTTYPE=image/png:https://dthgev.de/wp-content/uploads/2022/12/Kalenderblatt_RT_Nord.png
ORGANIZER;CN="DTHG e.V.":MAILTO:centrale@dthg.de
END:VEVENT
END:VCALENDAR